BEGIN:VCALENDAR
VERSION:2.0
PRODID:-//BFW - ECPv6.3.2//NONSGML v1.0//EN
CALSCALE:GREGORIAN
METHOD:PUBLISH
X-WR-CALNAME:BFW
X-ORIGINAL-URL:https://bfwbayern.de
X-WR-CALDESC:Veranstaltungen für BFW
REFRESH-INTERVAL;VALUE=DURATION:PT1H
X-Robots-Tag:noindex
X-PUBLISHED-TTL:PT1H
BEGIN:VTIMEZONE
TZID:Europe/Berlin
BEGIN:DAYLIGHT
TZOFFSETFROM:+0100
TZOFFSETTO:+0200
TZNAME:CEST
DTSTART:20230326T010000
END:DAYLIGHT
BEGIN:STANDARD
TZOFFSETFROM:+0200
TZOFFSETTO:+0100
TZNAME:CET
DTSTART:20231029T010000
END:STANDARD
BEGIN:DAYLIGHT
TZOFFSETFROM:+0100
TZOFFSETTO:+0200
TZNAME:CEST
DTSTART:20240331T010000
END:DAYLIGHT
BEGIN:STANDARD
TZOFFSETFROM:+0200
TZOFFSETTO:+0100
TZNAME:CET
DTSTART:20241027T010000
END:STANDARD
BEGIN:DAYLIGHT
TZOFFSETFROM:+0100
TZOFFSETTO:+0200
TZNAME:CEST
DTSTART:20250330T010000
END:DAYLIGHT
BEGIN:STANDARD
TZOFFSETFROM:+0200
TZOFFSETTO:+0100
TZNAME:CET
DTSTART:20251026T010000
END:STANDARD
END:VTIMEZONE
BEGIN:VEVENT
DTSTART;TZID=Europe/Berlin:20250724T120000
DTEND;TZID=Europe/Berlin:20250724T230000
DTSTAMP:20260421T133557
CREATED:20250108T102035Z
LAST-MODIFIED:20250721T071947Z
UID:10000031-1753358400-1753398000@bfwbayern.de
SUMMARY:Bayerischer Immobilienkongress und Immobiliennacht 2025
DESCRIPTION:Wir freuen uns\, Sie zum Bayerischen Immobilienkongress 2025 einladen zu dürfen. Mit dem Fokus auf die „Immobilienwirtschaft 2025 – Neue Trends\, innovative Impulse und beispielhafte Entwicklungen“ erwartet Sie ein abwechslungsreiches Programm mit hochkarätigen Rednern und spannenden Diskussionsrunden. \nAls Auftakt werden die wesentlichen Investmenttrends im vielversprechenden Jahr 2025 erörtert und herausragende Restrukturierungsbeispiele aus Unternehmerperspektive präsentiert. Auf unserem Innovations-Panel werden Ihnen zudem technische Lösungen vorgestellt\, die Ihnen im Alltag Erleichterungen bieten können. Im Anschluss bieten Fachvorträge praxisnahe Einblicke\, etwa in die aktuelle Marktsituation und die Potentiale innerstädtischer Entwicklung am Beispiel Münchens. \nEin Höhepunkt ist die Paneldiskussion über die zukünftigen „Chancenviertel“ in der Landeshauptstadt\, bei der hochrangige Vertreter aus der Politik ihre Visionen und Ansätze diskutieren und mit Ihnen teilen. Der Tag endet mit der exklusiven Bayerischen Immobiliennacht auf der M’Uniqo Rooftop Bar. Ein ganz besonderes Highlight für uns als Verband und für unsere Gäste\, wo bei entspannter Atmosphäre das Knüpfen neuer Kontakte besonders leichtfällt. \nSeien Sie dabei und profitieren Sie von wertvollen Einblicken\, Praxisnahen Tipps und einem einzigartigen Networking-Erlebnis. Wir freuen uns auf Ihre Teilnahme! \nProgramm
URL:https://bfwbayern.de/veranstaltungen/bayerischer-immobilienkongress-und-immobiliennacht-2025/
LOCATION:Hotel ANDAZ\,\, Leopoldstraße 170\, München\, 80804\, Deutschland
END:VEVENT
BEGIN:VEVENT
DTSTART;TZID=Europe/Berlin:20250702T080000
DTEND;TZID=Europe/Berlin:20250702T090000
DTSTAMP:20260421T133557
CREATED:20250527T081828Z
LAST-MODIFIED:20250527T082038Z
UID:10000046-1751443200-1751446800@bfwbayern.de
SUMMARY:Parlamentarisches Frühstück mit der Landtagsfraktion Bündnis 90/Die Grünen
DESCRIPTION:Exklusiv für Mitglieder
URL:https://bfwbayern.de/veranstaltungen/parlamentarisches-fruehstueck-mit-der-landtagsfraktion-buendnis-90-die-gruenen/
LOCATION:Bayerischer Landtag\,\, Max-Planck-Straße 1\, München\, 81675
END:VEVENT
BEGIN:VEVENT
DTSTART;TZID=Europe/Berlin:20250602T160000
DTEND;TZID=Europe/Berlin:20250602T200000
DTSTAMP:20260421T133557
CREATED:20250115T125059Z
LAST-MODIFIED:20250115T125104Z
UID:10000040-1748880000-1748894400@bfwbayern.de
SUMMARY:Junge Gruppe | Besichtigung Wohnquartier Nockherberg der Bayerischen Hausbau
DESCRIPTION:
URL:https://bfwbayern.de/veranstaltungen/junge-gruppe-besichtigung-wohnquartier-nockherberg-der-bayerischen-hausbau/
LOCATION:Paulaner am Nockherberg\,\, Hochstraße 77\, München\, 81541
END:VEVENT
BEGIN:VEVENT
DTSTART;TZID=Europe/Berlin:20250523T120000
DTEND;TZID=Europe/Berlin:20250523T170000
DTSTAMP:20260421T133557
CREATED:20250128T145440Z
LAST-MODIFIED:20250430T102358Z
UID:10000042-1748001600-1748019600@bfwbayern.de
SUMMARY:Werksbesichtigung | Leipfinger-Bader GmbH
DESCRIPTION:Exklusiv für Mitglieder \nProgramm
URL:https://bfwbayern.de/veranstaltungen/werksbesichtigung-leipfinger-bader-gmbh/
LOCATION:Leipfinger-Bader GmbH\,\, Ziegeleistraße 15\, Vatersdorf\, 84172
END:VEVENT
BEGIN:VEVENT
DTSTART;TZID=Europe/Berlin:20250507T130000
DTEND;TZID=Europe/Berlin:20250507T180000
DTSTAMP:20260421T133557
CREATED:20250108T115613Z
LAST-MODIFIED:20250505T135404Z
UID:10000038-1746622800-1746640800@bfwbayern.de
SUMMARY:Fachveranstaltung Wohnkonzepte 2025
DESCRIPTION:Der klassische Wohnungsbau hat durch viele Faktoren an Attraktivität verloren. Doch neue Konzepte\, die sich mit dem demografischen Wandel und standortspezifischen Faktoren befassen\, bieten Lösungen. Ob Seniorenimmobilien und deren Finanzierung\, Studentenwohnen\, oder Service Apartments – wir beleuchten die Assets\, die aktuell gefragt sind. \nProgramm
URL:https://bfwbayern.de/veranstaltungen/fachveranstaltung-wohnkonzepte-2025/
LOCATION:Marriott Hotel City West\,\, Landsberger Straße 156\, München\, 80687
END:VEVENT
BEGIN:VEVENT
DTSTART;TZID=Europe/Berlin:20250410T140000
DTEND;TZID=Europe/Berlin:20250410T180000
DTSTAMP:20260421T133557
CREATED:20250108T141217Z
LAST-MODIFIED:20250403T124547Z
UID:10000039-1744293600-1744308000@bfwbayern.de
SUMMARY:Der schnelle Weg zur Baugenehmigung - Informationen zu den Abläufen des Genehmigungsverfahrens
DESCRIPTION:Wie freuen uns\, Sie am 10. April 2025 ab 14.00 Uhr im „comN – Netzwerkhaus“ in München zu einer besonderen Veranstaltung einzuladen. Unter dem Motto „Der schnelle Weg zur Baugenehmigung – Informationen zu den Abläufen des Genehmigungsverfahrens“ bieten wir Ihnen die einmalige Gelegenheit\, aus erster Hand Einblicke über die internen Prozesse der Lokalbaukommission zu erhalten und im Austausch mit dessen Leiter\, Herrn Thomas Rehn\, und Mitarbeiterinnen und Mitarbeitern der Lokalbaukommission auszuloten\, wie die Genehmigungen in München deutlich beschleunigt werden können. \nNach einem Überblick über aktuelle Neuerungen und den digitalen Bauantrag wird Ihnen Herr Rehn das überarbeitete Beratungskonzept des Beratungszentrums präsentieren sowie Empfehlungen vorstellen\, wie Sie selbst eine schnellere Bearbeitung Ihrer Anträge sicherstellen können. Beispielsweise durch die richtige Beteiligung der Nachbarn\, eine optimale Aktivierung des Vorbescheids\, oder die Bevollmächtigung der konkreten Fachpersonen bei Formularen. \nAm Ende der Veranstaltung laden wir Sie zu einem gemeinsamen Get-together ein\, um in den erweiterten Dialog zu treten. Für Ihr leibliches Wohl wird gesorgt sein. \nWir freuen uns auf Ihre Teilnahme und darauf\, mit diesem Tag gemeinsam die Basis dafür zu schaffen\, dass die zeitintensiven Genehmigungsverfahren beschleunigt werden. Nutzen Sie die Gelegenheit\, sich hier aktiv einzubringen. In diesem Zusammenhang dürfen Sie gerne auch einen vorlageberechtigten Architekten mitnehmen\, mit welchem Sie vertrauensvoll zusammenarbeiten. \nProgramm
URL:https://bfwbayern.de/veranstaltungen/der-schnelle-weg-zur-baugenehmigung-informationen-zu-den-ablaeufen-des-genehmigungsverfahrens/
LOCATION:COMN – DAS NETZWERKHAUS\,\, Gotzinger Straße 19\, München\, 81371
END:VEVENT
BEGIN:VEVENT
DTSTART;VALUE=DATE:20250323
DTEND;VALUE=DATE:20250326
DTSTAMP:20260421T133557
CREATED:20250108T101829Z
LAST-MODIFIED:20250108T101903Z
UID:10000030-1742688000-1742947199@bfwbayern.de
SUMMARY:Winterevent 2025
DESCRIPTION:Exklusiv für Mitglieder
URL:https://bfwbayern.de/veranstaltungen/winterevent-2025/
END:VEVENT
BEGIN:VEVENT
DTSTART;TZID=Europe/Berlin:20250322T100000
DTEND;TZID=Europe/Berlin:20250323T170000
DTSTAMP:20260421T133557
CREATED:20241028T145835Z
LAST-MODIFIED:20241028T150445Z
UID:10000028-1742637600-1742749200@bfwbayern.de
SUMMARY:Münchner Immobilienmesse (MIM) 2025
DESCRIPTION:Tickets und weitere Infos
URL:https://bfwbayern.de/veranstaltungen/muenchner-immobilienmesse-mim-2025/
LOCATION:TonHalle\,\, Atelierstraße 24\, München\, 81671
END:VEVENT
BEGIN:VEVENT
DTSTART;TZID=Europe/Berlin:20250320T120000
DTEND;TZID=Europe/Berlin:20250320T180000
DTSTAMP:20260421T133557
CREATED:20250108T101216Z
LAST-MODIFIED:20250319T090606Z
UID:10000029-1742472000-1742493600@bfwbayern.de
SUMMARY:Bayerischer Immobilientag 2025
DESCRIPTION:Unter der Devise „Neue Chancen für die Bayerische Immobilienwirtschaft? Zwischen Bundestagswahl und aktueller Marktentwicklung“ blicken wir in diesem ereignisreichen Jahr auf das\, was die Immobilienbranche erwartet und erörtern\, ob die lange erwartete Trendwende nun endlich in Sicht ist. Freuen Sie sich auf eine abwechslungsreiche Tagung mit prominenten Referenten und spannenden Diskussionsrunden. \nDen Auftakt bildet traditionell eine Grußbotschaft des Bayerischen Staatsministers für Wohnen\, Bau und Verkehr\, Christian Bernreiter\, MdL\, gefolgt von einer Keynote des renommierten Immobilienökonomen Prof. Dr. Just von der IREBS Immobilienakademie über die bundesdeutsche Gesamtentwicklung. Daneben legen wir wieder Wert auf Praxisnähe. In Bayern tätige Unternehmer teilen ihre Erfahrungen mit Ihnen und diskutieren projektbezogen über aktuelle Herausforderungen und ihre Lösungsansätze. \nBayerns Marktanalyse durch Dr. Heike Piasecki von der bulwiengesa AG ist ein weiterer inhaltlicher Schwerpunkt des Immobilientages. Ein idealer Impuls für die Diskussion der fachpolitischen Entscheider aus dem Bayerischen Landtag darüber\, wie sie der Branche hier im Freistaat unter die Arme greifen wollen. \nWir freuen uns auf Ihre Teilnahme! \nProgramm
URL:https://bfwbayern.de/veranstaltungen/bayerischer-immobilientag-2025/
LOCATION:Hotel ANDAZ\,\, Leopoldstraße 170\, München\, 80804\, Deutschland
END:VEVENT
BEGIN:VEVENT
DTSTART;TZID=Europe/Berlin:20250221T100000
DTEND;TZID=Europe/Berlin:20250221T140000
DTSTAMP:20260421T133557
CREATED:20250108T105537Z
LAST-MODIFIED:20250108T105645Z
UID:10000037-1740132000-1740146400@bfwbayern.de
SUMMARY:Mitgliederversammlung 2025
DESCRIPTION:Exklusiv für Mitglieder
URL:https://bfwbayern.de/veranstaltungen/mitgliederversammlung-2025/
LOCATION:IHK Stammhaus\,\, Max-Joseph-Straße 2\, München\, 80333\, Deutschland
END:VEVENT
BEGIN:VEVENT
DTSTART;TZID=Europe/Berlin:20241205T180000
DTEND;TZID=Europe/Berlin:20241205T233000
DTSTAMP:20260421T133557
CREATED:20240206T120254Z
LAST-MODIFIED:20241022T134509Z
UID:10000010-1733421600-1733441400@bfwbayern.de
SUMMARY:Jahresempfang
DESCRIPTION:
URL:https://bfwbayern.de/veranstaltungen/jahresempfang-2024/
LOCATION:Y.OUR Pavillon\,\, Infanteriestraße 11a\, München\, 80798
END:VEVENT
BEGIN:VEVENT
DTSTART;VALUE=DATE:20241128
DTEND;VALUE=DATE:20241129
DTSTAMP:20260421T133557
CREATED:20240531T121946Z
LAST-MODIFIED:20240531T122220Z
UID:10000022-1732752000-1732838399@bfwbayern.de
SUMMARY:Impulse nach Berlin / Berlinfahrt
DESCRIPTION:Exklusiv für Mitglieder
URL:https://bfwbayern.de/veranstaltungen/impulse-nach-berlin-berlinfahrt/
END:VEVENT
BEGIN:VEVENT
DTSTART;VALUE=DATE:20241124
DTEND;VALUE=DATE:20241127
DTSTAMP:20260421T133557
CREATED:20240206T123551Z
LAST-MODIFIED:20241022T132935Z
UID:10000018-1732406400-1732665599@bfwbayern.de
SUMMARY:Verbandsdialog Sölden
DESCRIPTION:Exklusiv für Mitglieder
URL:https://bfwbayern.de/veranstaltungen/verbandsdialog-soelden/
LOCATION:Hotel Regina\,\, Dorfstraße 101\, Sölden\, 6450\, Österreich
END:VEVENT
BEGIN:VEVENT
DTSTART;TZID=Europe/Berlin:20241112T130000
DTEND;TZID=Europe/Berlin:20241112T180000
DTSTAMP:20260421T133557
CREATED:20240206T123439Z
LAST-MODIFIED:20241015T074959Z
UID:10000017-1731416400-1731434400@bfwbayern.de
SUMMARY:Energietag
DESCRIPTION:
URL:https://bfwbayern.de/veranstaltungen/energietag/
LOCATION:HYPERION Hotel\,\, Truderinger Straße 13\, München\, 81677\, Deutschland
END:VEVENT
BEGIN:VEVENT
DTSTART;TZID=Europe/Berlin:20241024T100000
DTEND;TZID=Europe/Berlin:20241024T180000
DTSTAMP:20260421T133557
CREATED:20240716T100037Z
LAST-MODIFIED:20240923T144015Z
UID:10000026-1729764000-1729792800@bfwbayern.de
SUMMARY:BFW Bayern Immobilien DIGITAL - Chancen und Strategien digitaler Innovation
DESCRIPTION:Die Digitalisierung ist aus der Immobilienwirtschaft längst nicht mehr wegzudenken. Sie hilft in den Unternehmen\, Prozesse zu vereinfachen und zu strukturieren\, bringt aber auch eine Reihe an Herausforderungen mit sich\, die es zu bewältigen gilt. Als BFW Landesverband Bayern haben wir daher\, als\neiner der ersten Verbände hier im Freistaat\, eine Online-Fachtagung ganz unter das Motto der Digitalisierung gestellt\, um praxisnah Kernfragen und Umsetzungsstrategien für die Immobilienwirtschaft\, in einer zusehends digitaler werdenden Welt\, zu erörtern. Führende Experten in diesem Gebiet werden ihre Erfahrungen und Lösungsansätze mit Ihnen teilen und diskutieren. Die Vorträge und Fachgespräche werden\, wie es sich für ein Format zur Digitalisierung gehört\, live aus einem modernen Hightech-TV-Studio übertragen. Das bedeutet\, dass Sie bequem vom Büro oder von Zuhause aus den spannenden\nImpulsen folgen können. \nSchalten Sie sich am 24. Oktober dazu – und erfahren Sie alles über Einsatzmöglichkeiten von KI und Digitalisierung in der Immobilienwirtschaft\, digitale Lösungen für ESG\, rechtliche Herausforderungen in der Baupraxis\, unternehmenseigene Erfahrungswerte\, hilfreiche Softwarelösungen\, Smart Cities und vieles mehr. \nWir freuen uns darauf\, Sie online begrüßen zu dürfen! \nProgramm
URL:https://bfwbayern.de/veranstaltungen/bfw-bayern-digital/
END:VEVENT
BEGIN:VEVENT
DTSTART;TZID=Europe/Berlin:20241017T140000
DTEND;TZID=Europe/Berlin:20241017T173000
DTSTAMP:20260421T133557
CREATED:20240206T123144Z
LAST-MODIFIED:20240919T111837Z
UID:10000016-1729173600-1729186200@bfwbayern.de
SUMMARY:Expertenforum Quartiersentwicklung
DESCRIPTION:Wir freuen uns\, Sie zum Expertenforum Quartiersentwicklung 2024 am 17. Oktober 2024 im hbw ConferenceCenter Haus der Bayerischen Wirtschaft in München einzuladen. Unter dem Motto „Quartiersentwicklung zwischen Versorgung und Transformation“ erwartet Sie ein abwechslungsreiches Programm\, welches Ihnen die neuesten Trends und Innovationen in der Quartiersentwicklung näherbringt. \nDas Forum beginnt mit einer Eröffnung und Begrüßung durch Andreas Eisele\, Präsident des BFW Landesverband Bayern e.V.\, gefolgt von spannenden Impulsvorträgen und Diskussionsrunden. Erleben Sie praxisnahe Einblicke in moderne Einzelhandelslösungen und innovative Energiekonzepte\, präsentiert von\nführenden Experten der Branche. \nNach einer kurzen Pause widmen wir uns im zweiten Block verschiedenen Aspekten der Transformation im Quartiersansatz\, zentral anhand von Praxisbeispielen konkreter Projekte. Eine abschließende Diskussionsrunde bietet die Gelegenheit\, mit Vertretern der Wirtschaft und Verwaltung über die Herausforderungen\nund Chancen der Quartiersentwicklung der Zukunft zu diskutieren. \nWir freuen uns auf Ihre Teilnahme und darauf\, gemeinsam die Zukunft der Quartiersentwicklung zu gestalten. \nProgramm
URL:https://bfwbayern.de/veranstaltungen/expertenforum-quartiersentwicklung/
LOCATION:Haus der Bayerischen Wirtschaft\,\, Max-Joseph-Straße 5\, München\, 80333
END:VEVENT
BEGIN:VEVENT
DTSTART;TZID=Europe/Berlin:20240925T120000
DTEND;TZID=Europe/Berlin:20240925T170000
DTSTAMP:20260421T133557
CREATED:20240531T122719Z
LAST-MODIFIED:20240531T122719Z
UID:10000023-1727265600-1727283600@bfwbayern.de
SUMMARY:Wiesnempfang | In Kooperation mit M-net
DESCRIPTION:Exklusiv für Mitglieder
URL:https://bfwbayern.de/veranstaltungen/wiesnempfang-in-kooperation-mit-m-net/
END:VEVENT
BEGIN:VEVENT
DTSTART;TZID=Europe/Berlin:20240910T133000
DTEND;TZID=Europe/Berlin:20240910T160000
DTSTAMP:20260421T133557
CREATED:20240607T090144Z
LAST-MODIFIED:20240607T090144Z
UID:10000025-1725975000-1725984000@bfwbayern.de
SUMMARY:Im Austausch | Gesprächsstunde mit der Wirtschaftsreferentin der Stadt Nürnberg
DESCRIPTION:Exklusiv für Mitglieder
URL:https://bfwbayern.de/veranstaltungen/im-austausch-gespraechsstunde-mit-der-wirtschaftsreferentin-der-stadt-nuernberg/
LOCATION:Wirtschaftsrathaus\,\, Theresienstraße 9\, Nürnberg\, 90403
END:VEVENT
BEGIN:VEVENT
DTSTART;TZID=Europe/Berlin:20240716T180000
DTEND;TZID=Europe/Berlin:20240716T220000
DTSTAMP:20260421T133557
CREATED:20240528T140113Z
LAST-MODIFIED:20240620T132013Z
UID:10000021-1721152800-1721167200@bfwbayern.de
SUMMARY:Junge Gruppe | After Work im Schlachthofviertel
DESCRIPTION:
URL:https://bfwbayern.de/veranstaltungen/junge-gruppe-after-work-im-schlachthofviertel/
LOCATION:COMN – DAS NETZWERKHAUS\,\, Gotzinger Straße 19\, München\, 81371
END:VEVENT
BEGIN:VEVENT
DTSTART;TZID=Europe/Berlin:20240711T113000
DTEND;TZID=Europe/Berlin:20240711T220000
DTSTAMP:20260421T133557
CREATED:20240206T120006Z
LAST-MODIFIED:20240625T144342Z
UID:10000009-1720697400-1720735200@bfwbayern.de
SUMMARY:Bayerischer Immobilienkongress und Immobiliennacht
DESCRIPTION:Unter dem Leitthema „Aufbruch statt Einbruch – Wohnen und Gewerbe im Wandel“ erwartet Sie ein abwechslungsreiches Programm mit hochkarätigen Rednern und spannenden Diskussionsrunden. \nGestartet wird der Kongress mit einer inspirierenden Keynote von Prof. Stefan Leupertz\, der Ihnen zeigt\, wie man Baukosten durch einfache Standards reduzieren kann. Im Anschluss bieten Impulsvorträge praxisnahe Einblicke in die Sanierung von Wohngebäuden\, die Entwicklung von Gewerbequartieren und die Transformation unserer Innenstädte. \nEin besonderes Highlight ist die Paneldiskussion zur lebenswerten Gestaltung des Städtebaus\, bei der hochrangige Vertreter aus Politik und Verwaltung Ihre Visionen und Ansätze teilen. Der Tag endet mit der exklusiven Bayerischen Immobiliennacht auf der M’Uniqo Rooftop Bar\, wo Sie bei entspannter Atmosphäre neue Kontakte knüpfen können. \nVerpassen Sie nicht diese einzigartige Gelegenheit\, wertvolle Kontakte zu knüpfen und sich über die neuesten Entwicklungen in der Immobilienbranche zu informieren. Melden Sie sich noch heute an und sichern Sie sich Ihren Platz beim Bayerischen Immobilienkongress 2024! \nProgramm
URL:https://bfwbayern.de/veranstaltungen/bayerischer-immobilienkongress-und-immobiliennacht-2024/
LOCATION:Hotel ANDAZ\,\, Leopoldstraße 170\, München\, 80804\, Deutschland
END:VEVENT
BEGIN:VEVENT
DTSTART;VALUE=DATE:20240616
DTEND;VALUE=DATE:20240619
DTSTAMP:20260421T133557
CREATED:20240206T122959Z
LAST-MODIFIED:20240415T130611Z
UID:10000015-1718496000-1718755199@bfwbayern.de
SUMMARY:Verbandsdialog Südtirol
DESCRIPTION:
URL:https://bfwbayern.de/veranstaltungen/verbandsdialog-suedtirol/
LOCATION:Hotel Gardena Grödnerhof\,\, Via Vidalong 3\, Oltretorrente\, 39040\, Italien
END:VEVENT
BEGIN:VEVENT
DTSTART;TZID=Europe/Berlin:20240611T080000
DTEND;TZID=Europe/Berlin:20240611T120000
DTSTAMP:20260421T133557
CREATED:20240326T145535Z
LAST-MODIFIED:20240531T122321Z
UID:10000020-1718092800-1718107200@bfwbayern.de
SUMMARY:Parlamentarisches Frühstück | Junge Gruppe der CSU
DESCRIPTION:Exklusiv für Mitglieder
URL:https://bfwbayern.de/veranstaltungen/parlamentarisches-fruehstueck-junge-gruppe-der-csu/
LOCATION:Bayerischer Landtag\,\, Max-Planck-Straße 1\, München\, 81675
END:VEVENT
BEGIN:VEVENT
DTSTART;VALUE=DATE:20240514
DTEND;VALUE=DATE:20240515
DTSTAMP:20260421T133557
CREATED:20240208T120918Z
LAST-MODIFIED:20240423T103001Z
UID:10000019-1715644800-1715731199@bfwbayern.de
SUMMARY:Finanzierungstag | Finanzierungsstrategien in stürmischen Zeiten
DESCRIPTION:Die aktuelle Zinslandschaft\, der beschränkte Zugang zu Fördermitteln und die allgemeine Zurückhaltung vieler Investoren und Banken stellt die Finanzierbarkeit vieler Projekte unserer Mitglieder auf den Prüfstand.  Der BFW Bayern Finanzierungstag bietet wertvolles Fachwissen über aktuelle Entwicklungen im ESG-Reporting\, der EU-Taxonomie und beleuchtet Investitionskriterien sowie unterschiedliche Finanzierungsstrategien. Das Programm können Sie hier in kürze einsehen. \n„Finanzierungstag 2024 \nFinanzierungsstrategien in stürmischen Zeiten“ \n  \nHotel HYPERION\, Truderinger Straße 13 81677 München \nDienstag\, 14. Mai 2024 \n12.00 bis 18.00 Uhr \nProgramm
URL:https://bfwbayern.de/veranstaltungen/finanzierungstag/
LOCATION:HYPERION Hotel\,\, Truderinger Straße 13\, München\, 81677\, Deutschland
ATTACH;FMTTYPE=image/png:https://bfwbayern.de/wp-content/uploads/2024/03/Header-Save-The-Date-Signatur.png
END:VEVENT
BEGIN:VEVENT
DTSTART;VALUE=DATE:20240317
DTEND;VALUE=DATE:20240320
DTSTAMP:20260421T133557
CREATED:20240206T122642Z
LAST-MODIFIED:20240206T122642Z
UID:10000014-1710633600-1710892799@bfwbayern.de
SUMMARY:Verbandsdialog Stubaital
DESCRIPTION:
URL:https://bfwbayern.de/veranstaltungen/verbandsdialog-stubaital/
END:VEVENT
BEGIN:VEVENT
DTSTART;VALUE=DATE:20240316
DTEND;VALUE=DATE:20240318
DTSTAMP:20260421T133557
CREATED:20240206T120611Z
LAST-MODIFIED:20240206T122456Z
UID:10000011-1710547200-1710719999@bfwbayern.de
SUMMARY:Münchner Immobilienmesse
DESCRIPTION:
URL:https://bfwbayern.de/veranstaltungen/muenchner-immobilienmesse-2024/
LOCATION:Kleine Olympiahalle\,\, Spiridon-Louis-Ring 21\, München\, 80809\, Deutschland
END:VEVENT
BEGIN:VEVENT
DTSTART;VALUE=DATE:20240314
DTEND;VALUE=DATE:20240315
DTSTAMP:20260421T133557
CREATED:20240206T122010Z
LAST-MODIFIED:20240206T122033Z
UID:10000013-1710374400-1710460799@bfwbayern.de
SUMMARY:Univers Afterwork
DESCRIPTION:
URL:https://bfwbayern.de/veranstaltungen/univers-afterwork/
LOCATION:Univers Geschäftsstelle\,\, Leopoldstraße 248\, München\, 80807\, Deutschland
END:VEVENT
BEGIN:VEVENT
DTSTART;VALUE=DATE:20240307
DTEND;VALUE=DATE:20240308
DTSTAMP:20260421T133557
CREATED:20240123T132415Z
LAST-MODIFIED:20240219T090343Z
UID:10000008-1709769600-1709855999@bfwbayern.de
SUMMARY:Bayerischer Immobilientag
DESCRIPTION:Die Immobilienwirtschaft steckt in der Krise. Die aktuelle Lage stellt unsere Mitglieder vor ein existenzielles Problem. Neue Trends und mögliche Lösungen diskutieren wir auf dem diesjährigen Bayerischen Immobilientag. Unter dem Motto: \n„Was geht\, wenn nichts mehr geht?\nNeue Dynamiken für die Immobilienbranche im Jahr 2024“ \nladen wir Sie hierzu recht herzlich ein. \nHotel ANDAZ\, Leopoldstraße 170\, 80804 München\nDonnerstag\, 07. März 2024\n12.00 bis 18.00 Uhr \nProgramm
URL:https://bfwbayern.de/veranstaltungen/bayerischer-immobilientag-2024/
LOCATION:Hotel ANDAZ\,\, Leopoldstraße 170\, München\, 80804\, Deutschland
ATTACH;FMTTYPE=image/jpeg:https://bfwbayern.de/wp-content/uploads/2024/01/BIT_2024_Header_Einladung.jpg
END:VEVENT
BEGIN:VEVENT
DTSTART;VALUE=DATE:20240209
DTEND;VALUE=DATE:20240210
DTSTAMP:20260421T133557
CREATED:20240206T121607Z
LAST-MODIFIED:20240208T122135Z
UID:10000012-1707436800-1707523199@bfwbayern.de
SUMMARY:Mitgliederversammlung
DESCRIPTION:
URL:https://bfwbayern.de/veranstaltungen/mitgliederversammlung-2024/
LOCATION:IHK Stammhaus\,\, Max-Joseph-Straße 2\, München\, 80333\, Deutschland
END:VEVENT
BEGIN:VEVENT
DTSTART;TZID=Europe/Berlin:20240118T170000
DTEND;TZID=Europe/Berlin:20240118T220000
DTSTAMP:20260421T133557
CREATED:20231215T085644Z
LAST-MODIFIED:20240116T132401Z
UID:10000007-1705597200-1705615200@bfwbayern.de
SUMMARY:Neujahresempfang 2024
DESCRIPTION:Environmental\, Social & Governance (ESG) und nachhaltiges Investieren stehen weit oben auf der Agenda der Immobilienbranche. Die Auswirkungen auf die Immobilienakteure sind erheblich und reichen von regulatorischen und rechtlichen Themen bis hin zur strategischen Planung und Unternehmenssteuerung. \nWir wollen die Gunst des neuen Jahres nutzen\, um Ihnen – einem auserwählten Publikum konkrete und praxisnahe Lösungsansätze sowie die Innovation einer transformativen Bauweise vorzustellen.\nSeien Sie unser Gast und freuen Sie sich auf einen interessanten Abend in einem exklusiven\nAmbiente über den Dächern Münchens. \nLassen Sie uns anstoßen und selbstverständlich ist auch für Ihr leibliches Wohl bestens gesorgt.\nWir freuen uns auf Sie!
URL:https://bfwbayern.de/veranstaltungen/neujahresempfang-2024-2/
LOCATION:BayWa AG Headquater\, Arabellastraße 4\, München\, 81925
END:VEVENT
BEGIN:VEVENT
DTSTART;TZID=Europe/Berlin:20231207T180000
DTEND;TZID=Europe/Berlin:20231207T233000
DTSTAMP:20260421T133557
CREATED:20230915T121811Z
LAST-MODIFIED:20231130T081122Z
UID:10000006-1701972000-1701991800@bfwbayern.de
SUMMARY:Jahresempfang 2023
DESCRIPTION:Erneut neigt sich ein Jahr voller Herausforderungen dem Ende zu. Die hohen Zinsen und Kosten bleiben weiterhin ein Problem und die Branche kann ihrer gesellschaftlichen Bedeutung – als Bereitsteller von genügend Wohnraum – nicht mehr im nötigen Umfang nachkommen. Wie wichtig die Immobilienwirtschaft als unverzichtbarer Motor für unsere Volkswirtschaft ist\, wird gleichzeitig immer deutlicher. \nEs gilt\, den akuten Herausforderungen richtig zu begegnen\, um notwendige Lösungsansätze und neue Chancen auszuloten. Wir sind überzeugt\, dass dies am besten im gemeinsamen Dialog funktioniert. \nDaher lädt der BFW Bayern Sie sehr herzlich zum Jahresempfang am Donnerstag\, den 07. Dezember 2023\, in den MINI Pavillon in München ein. Eine optimale Gelegenheit\, um sich mit Branchenkollegen und Persönlichkeiten aus Politik und Verwaltung\, Wissenschaft und Industrie auszutauschen\, neue Netzwerke zu knüpfen und das Jahr Revue passieren zu lassen. \nWir freuen uns auf Sie! \nProgramm
URL:https://bfwbayern.de/veranstaltungen/jahresempfang-des-bfw-bayern-2023/
LOCATION:Mini-Pavillon\, Lenbachplatz 7a\, München\, Bayern\, 80333\, Deutschland
ATTACH;FMTTYPE=image/jpeg:https://bfwbayern.de/wp-content/uploads/2023/09/Einladung_Header_Jahresempfang_2023.jpg
END:VEVENT
END:VCALENDAR