BEGIN:VCALENDAR
VERSION:2.0
PRODID:-//BFW - ECPv6.3.2//NONSGML v1.0//EN
CALSCALE:GREGORIAN
METHOD:PUBLISH
X-ORIGINAL-URL:https://bfwbayern.de
X-WR-CALDESC:Veranstaltungen für BFW
REFRESH-INTERVAL;VALUE=DURATION:PT1H
X-Robots-Tag:noindex
X-PUBLISHED-TTL:PT1H
BEGIN:VTIMEZONE
TZID:Europe/Berlin
BEGIN:DAYLIGHT
TZOFFSETFROM:+0100
TZOFFSETTO:+0200
TZNAME:CEST
DTSTART:20260329T010000
END:DAYLIGHT
BEGIN:STANDARD
TZOFFSETFROM:+0200
TZOFFSETTO:+0100
TZNAME:CET
DTSTART:20261025T010000
END:STANDARD
END:VTIMEZONE
BEGIN:VEVENT
DTSTART;TZID=Europe/Berlin:20261203T180000
DTEND;TZID=Europe/Berlin:20261203T233000
DTSTAMP:20260419T201309
CREATED:20251203T125745Z
LAST-MODIFIED:20260128T100421Z
UID:10000055-1796320800-1796340600@bfwbayern.de
SUMMARY:Jahresempfang 2026
DESCRIPTION:.
URL:https://bfwbayern.de/veranstaltungen/jahresempfang-2026/
LOCATION:Y.OUR Pavillon\,\, Infanteriestraße 11a\, München\, 80798
ATTACH;FMTTYPE=image/png:https://bfwbayern.de/wp-content/uploads/2026/01/Jahresempfang-26_Veranstaltungsbanner-website.png
END:VEVENT
END:VCALENDAR