BEGIN:VCALENDAR
VERSION:2.0
PRODID:-//BFW - ECPv6.3.2//NONSGML v1.0//EN
CALSCALE:GREGORIAN
METHOD:PUBLISH
X-WR-CALNAME:BFW
X-ORIGINAL-URL:https://bfwbayern.de
X-WR-CALDESC:Veranstaltungen für BFW
REFRESH-INTERVAL;VALUE=DURATION:PT1H
X-Robots-Tag:noindex
X-PUBLISHED-TTL:PT1H
BEGIN:VTIMEZONE
TZID:Europe/Berlin
BEGIN:DAYLIGHT
TZOFFSETFROM:+0100
TZOFFSETTO:+0200
TZNAME:CEST
DTSTART:20240331T010000
END:DAYLIGHT
BEGIN:STANDARD
TZOFFSETFROM:+0200
TZOFFSETTO:+0100
TZNAME:CET
DTSTART:20241027T010000
END:STANDARD
END:VTIMEZONE
BEGIN:VEVENT
DTSTART;VALUE=DATE:20240209
DTEND;VALUE=DATE:20240210
DTSTAMP:20260422T215148
CREATED:20240206T121607Z
LAST-MODIFIED:20240208T122135Z
UID:10000012-1707436800-1707523199@bfwbayern.de
SUMMARY:Mitgliederversammlung
DESCRIPTION:
URL:https://bfwbayern.de/veranstaltungen/mitgliederversammlung-2024/
LOCATION:IHK Stammhaus\,\, Max-Joseph-Straße 2\, München\, 80333\, Deutschland
END:VEVENT
END:VCALENDAR