BEGIN:VCALENDAR
VERSION:2.0
PRODID:-//BFW - ECPv6.3.2//NONSGML v1.0//EN
CALSCALE:GREGORIAN
METHOD:PUBLISH
X-ORIGINAL-URL:https://bfwbayern.de
X-WR-CALDESC:Veranstaltungen für BFW
REFRESH-INTERVAL;VALUE=DURATION:PT1H
X-Robots-Tag:noindex
X-PUBLISHED-TTL:PT1H
BEGIN:VTIMEZONE
TZID:Europe/Berlin
BEGIN:DAYLIGHT
TZOFFSETFROM:+0100
TZOFFSETTO:+0200
TZNAME:CEST
DTSTART:20260329T010000
END:DAYLIGHT
BEGIN:STANDARD
TZOFFSETFROM:+0200
TZOFFSETTO:+0100
TZNAME:CET
DTSTART:20261025T010000
END:STANDARD
END:VTIMEZONE
BEGIN:VEVENT
DTSTART;TZID=Europe/Berlin:20261022T140000
DTEND;TZID=Europe/Berlin:20261022T180000
DTSTAMP:20260419T183200
CREATED:20251203T125650Z
LAST-MODIFIED:20260128T095904Z
UID:10000053-1792677600-1792692000@bfwbayern.de
SUMMARY:Expertenforum Gewerbe und Quartier 2026
DESCRIPTION:Das Programm zur Veranstaltung ist noch nicht online.
URL:https://bfwbayern.de/veranstaltungen/expertenforum-gewerbe-und-quartier-2026/
LOCATION:Haus der Bayerischen Wirtschaft\,\, Max-Joseph-Straße 5\, München\, 80333
ATTACH;FMTTYPE=image/png:https://bfwbayern.de/wp-content/uploads/2026/01/Expertenforum-Quartiersentwicklung-BFW-Bayern.png
END:VEVENT
END:VCALENDAR